BEGIN:VCALENDAR
VERSION:2.0
PRODID:-//ProLife Europe - ECPv6.15.17.1//NONSGML v1.0//EN
CALSCALE:GREGORIAN
METHOD:PUBLISH
X-WR-CALNAME:ProLife Europe
X-ORIGINAL-URL:https://prolifeeurope.org
X-WR-CALDESC:Events for ProLife Europe
REFRESH-INTERVAL;VALUE=DURATION:PT1H
X-Robots-Tag:noindex
X-PUBLISHED-TTL:PT1H
BEGIN:VTIMEZONE
TZID:Europe/Berlin
BEGIN:DAYLIGHT
TZOFFSETFROM:+0100
TZOFFSETTO:+0200
TZNAME:CEST
DTSTART:20250330T010000
END:DAYLIGHT
BEGIN:STANDARD
TZOFFSETFROM:+0200
TZOFFSETTO:+0100
TZNAME:CET
DTSTART:20251026T010000
END:STANDARD
BEGIN:DAYLIGHT
TZOFFSETFROM:+0100
TZOFFSETTO:+0200
TZNAME:CEST
DTSTART:20260329T010000
END:DAYLIGHT
BEGIN:STANDARD
TZOFFSETFROM:+0200
TZOFFSETTO:+0100
TZNAME:CET
DTSTART:20261025T010000
END:STANDARD
BEGIN:DAYLIGHT
TZOFFSETFROM:+0100
TZOFFSETTO:+0200
TZNAME:CEST
DTSTART:20270328T010000
END:DAYLIGHT
BEGIN:STANDARD
TZOFFSETFROM:+0200
TZOFFSETTO:+0100
TZNAME:CET
DTSTART:20271031T010000
END:STANDARD
END:VTIMEZONE
BEGIN:VTIMEZONE
TZID:Europe/Vilnius
BEGIN:DAYLIGHT
TZOFFSETFROM:+0200
TZOFFSETTO:+0300
TZNAME:EEST
DTSTART:20250330T010000
END:DAYLIGHT
BEGIN:STANDARD
TZOFFSETFROM:+0300
TZOFFSETTO:+0200
TZNAME:EET
DTSTART:20251026T010000
END:STANDARD
BEGIN:DAYLIGHT
TZOFFSETFROM:+0200
TZOFFSETTO:+0300
TZNAME:EEST
DTSTART:20260329T010000
END:DAYLIGHT
BEGIN:STANDARD
TZOFFSETFROM:+0300
TZOFFSETTO:+0200
TZNAME:EET
DTSTART:20261025T010000
END:STANDARD
BEGIN:DAYLIGHT
TZOFFSETFROM:+0200
TZOFFSETTO:+0300
TZNAME:EEST
DTSTART:20270328T010000
END:DAYLIGHT
BEGIN:STANDARD
TZOFFSETFROM:+0300
TZOFFSETTO:+0200
TZNAME:EET
DTSTART:20271031T010000
END:STANDARD
END:VTIMEZONE
BEGIN:VEVENT
DTSTART;TZID=Europe/Berlin:20260417T150000
DTEND;TZID=Europe/Berlin:20260417T170000
DTSTAMP:20260425T021117
CREATED:20251202T120050Z
LAST-MODIFIED:20260415T105344Z
UID:10000245-1776438000-1776445200@prolifeeurope.org
SUMMARY:Outreach Wien
DESCRIPTION:Schau vorbei\, lerne uns kennen und pflanze mit anderen Studierenden Samen des Lebens!
URL:https://prolifeeurope.org/event/outreach-wien135/
LOCATION:Vienna\, Austria
CATEGORIES:Stand
ATTACH;FMTTYPE=image/png:https://prolifeeurope.org/wp-content/uploads/2025/11/Group-263_wider-02tyrq.png
ORGANIZER;CN="Lucia Bardini":MAILTO:lucia.bardini@prolifeeurope.org
END:VEVENT
BEGIN:VEVENT
DTSTART;TZID=Europe/Vilnius:20260319T130000
DTEND;TZID=Europe/Vilnius:20260319T150000
DTSTAMP:20260425T021117
CREATED:20260109T091217Z
LAST-MODIFIED:20260305T082419Z
UID:10000254-1773925200-1773932400@prolifeeurope.org
SUMMARY:Infotisch Wien
DESCRIPTION:Schau vorbei\, lerne uns kennen und pflanze mit anderen Studierenden Samen des Lebens!
URL:https://prolifeeurope.org/event/infotisch-wien46/
LOCATION:Vienna\, Austria
CATEGORIES:Outreach
ATTACH;FMTTYPE=image/png:https://prolifeeurope.org/wp-content/uploads/2024/12/Group-278.png
ORGANIZER;CN="Lucia Bardini":MAILTO:lucia.bardini@prolifeeurope.org
END:VEVENT
END:VCALENDAR