BEGIN:VCALENDAR
VERSION:2.0
PRODID:-//ProLife Europe - ECPv6.15.17.1//NONSGML v1.0//EN
CALSCALE:GREGORIAN
METHOD:PUBLISH
X-WR-CALNAME:ProLife Europe
X-ORIGINAL-URL:https://prolifeeurope.org
X-WR-CALDESC:Events for ProLife Europe
REFRESH-INTERVAL;VALUE=DURATION:PT1H
X-Robots-Tag:noindex
X-PUBLISHED-TTL:PT1H
BEGIN:VTIMEZONE
TZID:Europe/Berlin
BEGIN:DAYLIGHT
TZOFFSETFROM:+0100
TZOFFSETTO:+0200
TZNAME:CEST
DTSTART:20250330T010000
END:DAYLIGHT
BEGIN:STANDARD
TZOFFSETFROM:+0200
TZOFFSETTO:+0100
TZNAME:CET
DTSTART:20251026T010000
END:STANDARD
BEGIN:DAYLIGHT
TZOFFSETFROM:+0100
TZOFFSETTO:+0200
TZNAME:CEST
DTSTART:20260329T010000
END:DAYLIGHT
BEGIN:STANDARD
TZOFFSETFROM:+0200
TZOFFSETTO:+0100
TZNAME:CET
DTSTART:20261025T010000
END:STANDARD
BEGIN:DAYLIGHT
TZOFFSETFROM:+0100
TZOFFSETTO:+0200
TZNAME:CEST
DTSTART:20270328T010000
END:DAYLIGHT
BEGIN:STANDARD
TZOFFSETFROM:+0200
TZOFFSETTO:+0100
TZNAME:CET
DTSTART:20271031T010000
END:STANDARD
END:VTIMEZONE
BEGIN:VEVENT
DTSTART;TZID=Europe/Berlin:20260204T120000
DTEND;TZID=Europe/Berlin:20260204T150000
DTSTAMP:20260424T095128
CREATED:20260128T124840Z
LAST-MODIFIED:20260128T124921Z
UID:10000266-1770206400-1770217200@prolifeeurope.org
SUMMARY:Outreach Utrecht
DESCRIPTION:Kom langs\, leer ons kennen en plant samen met andere studenten zaadjes voor het leven! 🌱 \nhttps://forms.gle/xYyKAnkqLnkoWK1w7
URL:https://prolifeeurope.org/event/outreach-utrecht1/
LOCATION:Utrecht\, Netherlands
CATEGORIES:Outreach
ATTACH;FMTTYPE=image/png:https://prolifeeurope.org/wp-content/uploads/2025/11/Group-263_wider-02tyrq.png
ORGANIZER;CN="Roos Sparreboom":MAILTO:roos.sparreboom@prolifeeurope.org
END:VEVENT
END:VCALENDAR