BEGIN:VCALENDAR
VERSION:2.0
PRODID:-//ProLife Europe - ECPv6.15.17.1//NONSGML v1.0//EN
CALSCALE:GREGORIAN
METHOD:PUBLISH
X-ORIGINAL-URL:https://prolifeeurope.org
X-WR-CALDESC:Events for ProLife Europe
REFRESH-INTERVAL;VALUE=DURATION:PT1H
X-Robots-Tag:noindex
X-PUBLISHED-TTL:PT1H
BEGIN:VTIMEZONE
TZID:Europe/Vilnius
BEGIN:DAYLIGHT
TZOFFSETFROM:+0200
TZOFFSETTO:+0300
TZNAME:EEST
DTSTART:20240331T010000
END:DAYLIGHT
BEGIN:STANDARD
TZOFFSETFROM:+0300
TZOFFSETTO:+0200
TZNAME:EET
DTSTART:20241027T010000
END:STANDARD
BEGIN:DAYLIGHT
TZOFFSETFROM:+0200
TZOFFSETTO:+0300
TZNAME:EEST
DTSTART:20250330T010000
END:DAYLIGHT
BEGIN:STANDARD
TZOFFSETFROM:+0300
TZOFFSETTO:+0200
TZNAME:EET
DTSTART:20251026T010000
END:STANDARD
BEGIN:DAYLIGHT
TZOFFSETFROM:+0200
TZOFFSETTO:+0300
TZNAME:EEST
DTSTART:20260329T010000
END:DAYLIGHT
BEGIN:STANDARD
TZOFFSETFROM:+0300
TZOFFSETTO:+0200
TZNAME:EET
DTSTART:20261025T010000
END:STANDARD
BEGIN:DAYLIGHT
TZOFFSETFROM:+0200
TZOFFSETTO:+0300
TZNAME:EEST
DTSTART:20270328T010000
END:DAYLIGHT
BEGIN:STANDARD
TZOFFSETFROM:+0300
TZOFFSETTO:+0200
TZNAME:EET
DTSTART:20271031T010000
END:STANDARD
END:VTIMEZONE
BEGIN:VTIMEZONE
TZID:Europe/Berlin
BEGIN:DAYLIGHT
TZOFFSETFROM:+0100
TZOFFSETTO:+0200
TZNAME:CEST
DTSTART:20240331T010000
END:DAYLIGHT
BEGIN:STANDARD
TZOFFSETFROM:+0200
TZOFFSETTO:+0100
TZNAME:CET
DTSTART:20241027T010000
END:STANDARD
BEGIN:DAYLIGHT
TZOFFSETFROM:+0100
TZOFFSETTO:+0200
TZNAME:CEST
DTSTART:20250330T010000
END:DAYLIGHT
BEGIN:STANDARD
TZOFFSETFROM:+0200
TZOFFSETTO:+0100
TZNAME:CET
DTSTART:20251026T010000
END:STANDARD
BEGIN:DAYLIGHT
TZOFFSETFROM:+0100
TZOFFSETTO:+0200
TZNAME:CEST
DTSTART:20260329T010000
END:DAYLIGHT
BEGIN:STANDARD
TZOFFSETFROM:+0200
TZOFFSETTO:+0100
TZNAME:CET
DTSTART:20261025T010000
END:STANDARD
BEGIN:DAYLIGHT
TZOFFSETFROM:+0100
TZOFFSETTO:+0200
TZNAME:CEST
DTSTART:20270328T010000
END:DAYLIGHT
BEGIN:STANDARD
TZOFFSETFROM:+0200
TZOFFSETTO:+0100
TZNAME:CET
DTSTART:20271031T010000
END:STANDARD
END:VTIMEZONE
BEGIN:VEVENT
DTSTART;TZID=Europe/Vilnius:20260319T130000
DTEND;TZID=Europe/Vilnius:20260319T150000
DTSTAMP:20260425T015203
CREATED:20260109T091217Z
LAST-MODIFIED:20260305T082419Z
UID:10000254-1773925200-1773932400@prolifeeurope.org
SUMMARY:Infotisch Wien
DESCRIPTION:Schau vorbei\, lerne uns kennen und pflanze mit anderen Studierenden Samen des Lebens!
URL:https://prolifeeurope.org/event/infotisch-wien46/
LOCATION:Vienna\, Austria
CATEGORIES:Outreach
ATTACH;FMTTYPE=image/png:https://prolifeeurope.org/wp-content/uploads/2024/12/Group-278.png
ORGANIZER;CN="Lucia Bardini":MAILTO:lucia.bardini@prolifeeurope.org
END:VEVENT
BEGIN:VEVENT
DTSTART;TZID=Europe/Berlin:20260319T120000
DTEND;TZID=Europe/Berlin:20260319T120000
DTSTAMP:20260425T015203
CREATED:20260305T081834Z
LAST-MODIFIED:20260319T063412Z
UID:10000278-1773921600-1773921600@prolifeeurope.org
SUMMARY:Gruppentreffen Augsburg
DESCRIPTION:
URL:https://prolifeeurope.org/event/gruppentreffen-augsburg/
LOCATION:Augsburg\, Germany
CATEGORIES:Group Meeting
ATTACH;FMTTYPE=image/png:https://prolifeeurope.org/wp-content/uploads/2024/11/Screenshot-2024-07-23-at-17.11.30-1-1.png
ORGANIZER;CN="Lucia Bardini":MAILTO:lucia.bardini@prolifeeurope.org
END:VEVENT
BEGIN:VEVENT
DTSTART;VALUE=DATE:20260220
DTEND;VALUE=DATE:20260221
DTSTAMP:20260425T015203
CREATED:20251113T134754Z
LAST-MODIFIED:20260209T082301Z
UID:10000241-1771545600-1771631999@prolifeeurope.org
SUMMARY:Outreach Salzburg
DESCRIPTION:Schau vorbei\, lerne uns kennen und pflanze mit anderen Studierenden Samen des Lebens!
URL:https://prolifeeurope.org/event/outreach-sb251222/
LOCATION:Salzburg\, Austria
CATEGORIES:Outreach
ATTACH;FMTTYPE=image/png:https://prolifeeurope.org/wp-content/uploads/2025/11/Group-263_wider-02tyrq.png
ORGANIZER;CN="Lucia Bardini":MAILTO:lucia.bardini@prolifeeurope.org
END:VEVENT
BEGIN:VEVENT
DTSTART;TZID=Europe/Berlin:20260211T160000
DTEND;TZID=Europe/Berlin:20260211T190000
DTSTAMP:20260425T015203
CREATED:20260126T111730Z
LAST-MODIFIED:20260202T120401Z
UID:10000262-1770825600-1770836400@prolifeeurope.org
SUMMARY:Infotisch München
DESCRIPTION:Schau vorbei\, lerne uns kennen und pflanze mit anderen Studierenden Samen des Lebens!
URL:https://prolifeeurope.org/event/munchen/
LOCATION:Munich\, Germany
CATEGORIES:Stand
ATTACH;FMTTYPE=image/png:https://prolifeeurope.org/wp-content/uploads/2024/12/Group-278.png
ORGANIZER;CN="Lucia Bardini":MAILTO:lucia.bardini@prolifeeurope.org
END:VEVENT
BEGIN:VEVENT
DTSTART;VALUE=DATE:20260131
DTEND;VALUE=DATE:20260201
DTSTAMP:20260425T015203
CREATED:20251111T085050Z
LAST-MODIFIED:20260126T110743Z
UID:10000237-1769817600-1769903999@prolifeeurope.org
SUMMARY:Outreach Zürich
DESCRIPTION:Schau vorbei\, lerne uns kennen und pflanze mit anderen Studierenden Samen des Lebens!
URL:https://prolifeeurope.org/event/zuerich/
LOCATION:Zürich\, Switzerland
CATEGORIES:Outreach
ATTACH;FMTTYPE=image/png:https://prolifeeurope.org/wp-content/uploads/2025/11/Group-263_wider-02tyrq.png
ORGANIZER;CN="Lucia Bardini":MAILTO:lucia.bardini@prolifeeurope.org
END:VEVENT
BEGIN:VEVENT
DTSTART;TZID=Europe/Vilnius:20260127T150000
DTEND;TZID=Europe/Vilnius:20260127T170000
DTSTAMP:20260425T015203
CREATED:20260119T130336Z
LAST-MODIFIED:20260119T130519Z
UID:10000258-1769526000-1769533200@prolifeeurope.org
SUMMARY:Infotisch Augsburg
DESCRIPTION:Schau vorbei\, lerne uns kennen und pflanze mit anderen Studierenden Samen des Lebens!
URL:https://prolifeeurope.org/event/infotisch-augsburg/
LOCATION:Augsburg\, Germany
CATEGORIES:Outreach
ATTACH;FMTTYPE=image/jpeg:https://prolifeeurope.org/wp-content/uploads/2025/11/Info_Table_LT_IMG_20251008_112122-scaled-gXBnUP.jpg
ORGANIZER;CN="Lucia Bardini":MAILTO:lucia.bardini@prolifeeurope.org
END:VEVENT
BEGIN:VEVENT
DTSTART;TZID=Europe/Vilnius:20251211T114500
DTEND;TZID=Europe/Vilnius:20251211T121500
DTSTAMP:20260425T015203
CREATED:20251209T081840Z
LAST-MODIFIED:20251209T081840Z
UID:10000250-1765453500-1765455300@prolifeeurope.org
SUMMARY:Infostand Regensburg
DESCRIPTION:Schau vorbei\, lerne uns kennen und pflanze mit anderen Studierenden Samen des Lebens!
URL:https://prolifeeurope.org/event/info-stand-rb/
LOCATION:Regensburg\, Germany
CATEGORIES:Outreach
ATTACH;FMTTYPE=image/jpeg:https://prolifeeurope.org/wp-content/uploads/2025/11/Info_Table_LT_IMG_20251008_112122-scaled-gXBnUP.jpg
ORGANIZER;CN="Lucia Bardini":MAILTO:lucia.bardini@prolifeeurope.org
END:VEVENT
BEGIN:VEVENT
DTSTART;VALUE=DATE:20251202
DTEND;VALUE=DATE:20251203
DTSTAMP:20260425T015203
CREATED:20251104T191314Z
LAST-MODIFIED:20251111T103158Z
UID:10000173-1764633600-1764719999@prolifeeurope.org
SUMMARY:Outreach Eichstätt
DESCRIPTION:Schau vorbei\, lerne uns kennen und pflanze mit anderen Studierenden Samen des Lebens!
URL:https://prolifeeurope.org/event/outreach-eichstatt/
LOCATION:Eichstätt\, Germany
CATEGORIES:Outreach
ATTACH;FMTTYPE=image/png:https://prolifeeurope.org/wp-content/uploads/2025/11/Group-263_wider-02tyrq.png
ORGANIZER;CN="Lucia Bardini":MAILTO:lucia.bardini@prolifeeurope.org
END:VEVENT
END:VCALENDAR