BEGIN:VCALENDAR
VERSION:2.0
PRODID:-//ProLife Europe - ECPv6.15.17.1//NONSGML v1.0//EN
CALSCALE:GREGORIAN
METHOD:PUBLISH
X-WR-CALNAME:ProLife Europe
X-ORIGINAL-URL:https://prolifeeurope.org/nl/
X-WR-CALDESC:Evenementen voor ProLife Europe
REFRESH-INTERVAL;VALUE=DURATION:PT1H
X-Robots-Tag:noindex
X-PUBLISHED-TTL:PT1H
BEGIN:VTIMEZONE
TZID:Europe/Berlin
BEGIN:DAYLIGHT
TZOFFSETFROM:+0100
TZOFFSETTO:+0200
TZNAME:CEST
DTSTART:20250330T010000
END:DAYLIGHT
BEGIN:STANDARD
TZOFFSETFROM:+0200
TZOFFSETTO:+0100
TZNAME:CET
DTSTART:20251026T010000
END:STANDARD
BEGIN:DAYLIGHT
TZOFFSETFROM:+0100
TZOFFSETTO:+0200
TZNAME:CEST
DTSTART:20260329T010000
END:DAYLIGHT
BEGIN:STANDARD
TZOFFSETFROM:+0200
TZOFFSETTO:+0100
TZNAME:CET
DTSTART:20261025T010000
END:STANDARD
BEGIN:DAYLIGHT
TZOFFSETFROM:+0100
TZOFFSETTO:+0200
TZNAME:CEST
DTSTART:20270328T010000
END:DAYLIGHT
BEGIN:STANDARD
TZOFFSETFROM:+0200
TZOFFSETTO:+0100
TZNAME:CET
DTSTART:20271031T010000
END:STANDARD
END:VTIMEZONE
BEGIN:VEVENT
DTSTART;TZID=Europe/Berlin:20260125T140000
DTEND;TZID=Europe/Berlin:20260125T160000
DTSTAMP:20260419T191306
CREATED:20260122T074725Z
LAST-MODIFIED:20260122T074725Z
UID:10000261-1769349600-1769356800@prolifeeurope.org
SUMMARY:Talk 'Plant a seed'
DESCRIPTION:Talk at WYD-at Home in The Netherlands \nWJD@Home
URL:https://prolifeeurope.org/nl/event/talk-plant-a-seed-260125/
LOCATION:Helvoirt\, Netherlands
ATTACH;FMTTYPE=image/png:https://prolifeeurope.org/wp-content/uploads/2025/04/Group-124_Cal-e1744640318911.png
ORGANIZER;CN="Roos Sparreboom":MAILTO:roos.sparreboom@prolifeeurope.org
END:VEVENT
BEGIN:VEVENT
DTSTART;TZID=Europe/Berlin:20260131T133000
DTEND;TZID=Europe/Berlin:20260131T150000
DTSTAMP:20260419T191306
CREATED:20260128T124535Z
LAST-MODIFIED:20260128T124535Z
UID:10000265-1769866200-1769871600@prolifeeurope.org
SUMMARY:Outreach Eindhoven
DESCRIPTION:Kom langs\, leer ons kennen en plant samen met andere studenten zaadjes voor het leven! 🌱 \nhttps://docs.google.com/forms/d/e/1FAIpQLSdbO9ESV42KYAJbo_B2JBj-nGAjMvtMyPpxNQgslIxHQX1uXQ/viewform
URL:https://prolifeeurope.org/nl/event/outreach-eindhoven1/
LOCATION:Eindhoven\, Netherlands
CATEGORIES:Outreach
ATTACH;FMTTYPE=image/png:https://prolifeeurope.org/wp-content/uploads/2025/11/Group-263_wider-02tyrq.png
ORGANIZER;CN="Roos Sparreboom":MAILTO:roos.sparreboom@prolifeeurope.org
END:VEVENT
END:VCALENDAR