BEGIN:VCALENDAR
VERSION:2.0
PRODID:-//ProLife Europe - ECPv6.15.17.1//NONSGML v1.0//EN
CALSCALE:GREGORIAN
METHOD:PUBLISH
X-WR-CALNAME:ProLife Europe
X-ORIGINAL-URL:https://prolifeeurope.org/lt/
X-WR-CALDESC:ProLife Europe renginiai
REFRESH-INTERVAL;VALUE=DURATION:PT1H
X-Robots-Tag:noindex
X-PUBLISHED-TTL:PT1H
BEGIN:VTIMEZONE
TZID:Europe/Berlin
BEGIN:DAYLIGHT
TZOFFSETFROM:+0100
TZOFFSETTO:+0200
TZNAME:CEST
DTSTART:20250330T010000
END:DAYLIGHT
BEGIN:STANDARD
TZOFFSETFROM:+0200
TZOFFSETTO:+0100
TZNAME:CET
DTSTART:20251026T010000
END:STANDARD
BEGIN:DAYLIGHT
TZOFFSETFROM:+0100
TZOFFSETTO:+0200
TZNAME:CEST
DTSTART:20260329T010000
END:DAYLIGHT
BEGIN:STANDARD
TZOFFSETFROM:+0200
TZOFFSETTO:+0100
TZNAME:CET
DTSTART:20261025T010000
END:STANDARD
BEGIN:DAYLIGHT
TZOFFSETFROM:+0100
TZOFFSETTO:+0200
TZNAME:CEST
DTSTART:20270328T010000
END:DAYLIGHT
BEGIN:STANDARD
TZOFFSETFROM:+0200
TZOFFSETTO:+0100
TZNAME:CET
DTSTART:20271031T010000
END:STANDARD
END:VTIMEZONE
BEGIN:VTIMEZONE
TZID:Europe/Vilnius
BEGIN:DAYLIGHT
TZOFFSETFROM:+0200
TZOFFSETTO:+0300
TZNAME:EEST
DTSTART:20240331T010000
END:DAYLIGHT
BEGIN:STANDARD
TZOFFSETFROM:+0300
TZOFFSETTO:+0200
TZNAME:EET
DTSTART:20241027T010000
END:STANDARD
BEGIN:DAYLIGHT
TZOFFSETFROM:+0200
TZOFFSETTO:+0300
TZNAME:EEST
DTSTART:20250330T010000
END:DAYLIGHT
BEGIN:STANDARD
TZOFFSETFROM:+0300
TZOFFSETTO:+0200
TZNAME:EET
DTSTART:20251026T010000
END:STANDARD
BEGIN:DAYLIGHT
TZOFFSETFROM:+0200
TZOFFSETTO:+0300
TZNAME:EEST
DTSTART:20260329T010000
END:DAYLIGHT
BEGIN:STANDARD
TZOFFSETFROM:+0300
TZOFFSETTO:+0200
TZNAME:EET
DTSTART:20261025T010000
END:STANDARD
BEGIN:DAYLIGHT
TZOFFSETFROM:+0200
TZOFFSETTO:+0300
TZNAME:EEST
DTSTART:20270328T010000
END:DAYLIGHT
BEGIN:STANDARD
TZOFFSETFROM:+0300
TZOFFSETTO:+0200
TZNAME:EET
DTSTART:20271031T010000
END:STANDARD
END:VTIMEZONE
BEGIN:VEVENT
DTSTART;TZID=Europe/Berlin:20260419T123000
DTEND;TZID=Europe/Berlin:20260419T143000
DTSTAMP:20260419T191934
CREATED:20260316T081243Z
LAST-MODIFIED:20260408T113807Z
UID:10000281-1776601800-1776609000@prolifeeurope.org
SUMMARY:Narodowy Marsz Życia
DESCRIPTION:Zajrzyj do nas na Placu Zamkowym – dowiedz się jak możesz się zaangażować lub wesprzeć nasze działania!
URL:https://prolifeeurope.org/lt/event/narodowy-marsz-zycia/
LOCATION:Warsaw\, Poland
CATEGORIES:Stand
ATTACH;FMTTYPE=image/png:https://prolifeeurope.org/wp-content/uploads/2026/03/Varsuva.png
ORGANIZER;CN="Antanas Urma":MAILTO:antanas.urma@prolifeeurope.org
END:VEVENT
BEGIN:VEVENT
DTSTART;TZID=Europe/Vilnius:20260329T163000
DTEND;TZID=Europe/Vilnius:20260329T173000
DTSTAMP:20260419T191934
CREATED:20251209T082202Z
LAST-MODIFIED:20260319T063534Z
UID:10000253-1774801800-1774805400@prolifeeurope.org
SUMMARY:Info stalas Vilniuje
DESCRIPTION:Ateik\, susipažink ir padėk skleisti gyvybės kultūrą smagioj studentų kompanijoj 🤟
URL:https://prolifeeurope.org/lt/event/info-stalas-vilniuje26/
LOCATION:Vilnius\, Lithuania
CATEGORIES:Outreach
ATTACH;FMTTYPE=image/jpeg:https://prolifeeurope.org/wp-content/uploads/2025/11/Info_Table_LT_IMG_20251008_112122-scaled-gXBnUP.jpg
ORGANIZER;CN="Antanas Urma":MAILTO:antanas.urma@prolifeeurope.org
END:VEVENT
BEGIN:VEVENT
DTSTART;VALUE=DATE:20260329
DTEND;VALUE=DATE:20260330
DTSTAMP:20260419T191934
CREATED:20260302T081709Z
LAST-MODIFIED:20260302T193804Z
UID:10000277-1774742400-1774828799@prolifeeurope.org
SUMMARY:Outreach Warszawa
DESCRIPTION:Jesteśmy grupą studentów\, którzy wierzą w równą godność każdego człowieka 🧡 Chcemy budować kulturę dialogu wokół trudnych pytań 🫶 Dołącz do nas!
URL:https://prolifeeurope.org/lt/event/outreach-warszawa/
LOCATION:Warsaw\, Poland
CATEGORIES:Outreach
ATTACH;FMTTYPE=image/png:https://prolifeeurope.org/wp-content/uploads/2026/03/Outreach-Warsaw.png
ORGANIZER;CN="Antanas Urma":MAILTO:antanas.urma@prolifeeurope.org
END:VEVENT
BEGIN:VEVENT
DTSTART;TZID=Europe/Vilnius:20260320T190000
DTEND;TZID=Europe/Vilnius:20260320T194500
DTSTAMP:20260419T191934
CREATED:20251113T134958Z
LAST-MODIFIED:20260317T140757Z
UID:10000244-1774033200-1774035900@prolifeeurope.org
SUMMARY:Atnaujinkime kultūrą! 🧡
DESCRIPTION:ProLife Europe kviečia Tave į trumpą nuotolinį susitikimą\, kuriuo metu pasidalinsime kaip kartu ginti žmogaus gyvybės orumą ir grožį. Susitikimo metu sužinosi ProLife Europe viziją ir misiją\, kas yra pro-life studentų grupė\, kaip gali prie tokios grupės prisijungti arba pradėti naują. \nhttps://docs.google.com/forms/d/e/1FAIpQLSd7TECRVDTqTfWZS6l6yp3jVXBvp9jlrVqiu0JV5_RYPVVJHw/viewform
URL:https://prolifeeurope.org/lt/event/atnaujinkime-kultura-%f0%9f%a7%a1-ple/
CATEGORIES:Change the Culture
ATTACH;FMTTYPE=image/jpeg:https://prolifeeurope.org/wp-content/uploads/2025/11/InfoSessionLT_2024-10-04-Vilnius-NK3VnY.jpg
LOCATION:https://prolifeeurope.org/lt/event/atnaujinkime-kultura-%f0%9f%a7%a1-ple/
END:VEVENT
BEGIN:VEVENT
DTSTART;TZID=Europe/Vilnius:20260317T170000
DTEND;TZID=Europe/Vilnius:20260317T183000
DTSTAMP:20260419T191934
CREATED:20251204T090332Z
LAST-MODIFIED:20260317T125247Z
UID:10000248-1773766800-1773772200@prolifeeurope.org
SUMMARY:Info stalas Kaune
DESCRIPTION:Ateik\, susipažink ir padėk skleisti gyvybės kultūrą smagioj studentų kompanijoj 🤟
URL:https://prolifeeurope.org/lt/event/info-stalas-kaune_ple/
LOCATION:Kaunas\, Lithuania
CATEGORIES:Outreach
ATTACH;FMTTYPE=image/jpeg:https://prolifeeurope.org/wp-content/uploads/2025/11/Info_Table_LT_IMG_20251008_112122-scaled-gXBnUP.jpg
ORGANIZER;CN="Antanas Urma":MAILTO:antanas.urma@prolifeeurope.org
END:VEVENT
BEGIN:VEVENT
DTSTART;TZID=Europe/Vilnius:20260204T193000
DTEND;TZID=Europe/Vilnius:20260204T203000
DTSTAMP:20260419T191934
CREATED:20251106T103952Z
LAST-MODIFIED:20260109T091657Z
UID:10000223-1770233400-1770237000@prolifeeurope.org
SUMMARY:Kodėl už gyvybę? 4. dalis
DESCRIPTION:Sužinok kaip padėti moterims ir gelbėti gyvybes! 🫶 \nhttps://docs.google.com/forms/d/e/1FAIpQLSdiKRqDo4QEAooV6lvNMP7AN041q4keI9iADuUwtY50Nzf_Tg/viewform
URL:https://prolifeeurope.org/lt/event/kodel-uz-gyvybe-4-dalis/
CATEGORIES:Training
ATTACH;FMTTYPE=image/jpeg:https://prolifeeurope.org/wp-content/uploads/2025/11/Tr_PL_IMG_20240518_103851-scaled-ogsR2B.jpg
LOCATION:https://prolifeeurope.org/lt/event/kodel-uz-gyvybe-4-dalis/
END:VEVENT
BEGIN:VEVENT
DTSTART;TZID=Europe/Vilnius:20251126T193000
DTEND;TZID=Europe/Vilnius:20251126T203000
DTSTAMP:20260419T191934
CREATED:20251106T103952Z
LAST-MODIFIED:20251106T103952Z
UID:10000201-1764185400-1764189000@prolifeeurope.org
SUMMARY:Kodėl už gyvybę? 3. dalis
DESCRIPTION:Sužinok kaip padėti moterims ir gelbėti gyvybes! 🫶 \nhttps://docs.google.com/forms/d/e/1FAIpQLSdiKRqDo4QEAooV6lvNMP7AN041q4keI9iADuUwtY50Nzf_Tg/viewform
URL:https://prolifeeurope.org/lt/event/kodel-uz-gyvybe-3-dalis/
CATEGORIES:Training
ATTACH;FMTTYPE=image/jpeg:https://prolifeeurope.org/wp-content/uploads/2025/11/Tr_PL_IMG_20240518_103851-scaled-ogsR2B.jpg
END:VEVENT
BEGIN:VEVENT
DTSTART;TZID=Europe/Vilnius:20251111T130000
DTEND;TZID=Europe/Vilnius:20251111T143000
DTSTAMP:20260419T191934
CREATED:20251104T191310Z
LAST-MODIFIED:20251104T191310Z
UID:10000207-1762866000-1762871400@prolifeeurope.org
SUMMARY:Outreach Kaunas
DESCRIPTION:Ateik\, susipažink ir padėk skleisti gyvybės kultūrą smagioj studentų kompanijoj 🤟
URL:https://prolifeeurope.org/lt/event/outreach-kaunas/
CATEGORIES:Outreach
ATTACH;FMTTYPE=image/png:https://prolifeeurope.org/wp-content/uploads/2025/11/Group-263_wider-02tyrq.png
ORGANIZER;CN="Antanas Urma":MAILTO:antanas.urma@prolifeeurope.org
END:VEVENT
BEGIN:VEVENT
DTSTART;TZID=Europe/Vilnius:20251106T190000
DTEND;TZID=Europe/Vilnius:20251106T194500
DTSTAMP:20260419T191934
CREATED:20251104T192749Z
LAST-MODIFIED:20251104T192749Z
UID:10000198-1762455600-1762458300@prolifeeurope.org
SUMMARY:Atnaujinkime kultūrą! 🧡
DESCRIPTION:ProLife Europe kviečia Tave į trumpą nuotolinį susitikimą\, kuriuo metu pasidalinsime kaip kartu ginti žmogaus gyvybės orumą ir grožį. Susitikimo metu sužinosi ProLife Europe viziją ir misiją\, kas yra pro-life studentų grupė\, kaip gali prie tokios grupės prisijungti arba pradėti naują. \nhttps://docs.google.com/forms/d/e/1FAIpQLSd7TECRVDTqTfWZS6l6yp3jVXBvp9jlrVqiu0JV5_RYPVVJHw/viewform
URL:https://prolifeeurope.org/lt/event/atnaujinkime-kultura-%f0%9f%a7%a1-2/
CATEGORIES:Change the Culture
ATTACH;FMTTYPE=image/jpeg:https://prolifeeurope.org/wp-content/uploads/2025/11/frankfurt-7c8jPB.jpg
END:VEVENT
END:VCALENDAR