BEGIN:VCALENDAR
VERSION:2.0
PRODID:-//ProLife Europe - ECPv6.15.17.1//NONSGML v1.0//EN
CALSCALE:GREGORIAN
METHOD:PUBLISH
X-WR-CALNAME:ProLife Europe
X-ORIGINAL-URL:https://prolifeeurope.org
X-WR-CALDESC:Events for ProLife Europe
REFRESH-INTERVAL;VALUE=DURATION:PT1H
X-Robots-Tag:noindex
X-PUBLISHED-TTL:PT1H
BEGIN:VTIMEZONE
TZID:Europe/Vilnius
BEGIN:DAYLIGHT
TZOFFSETFROM:+0200
TZOFFSETTO:+0300
TZNAME:EEST
DTSTART:20250330T010000
END:DAYLIGHT
BEGIN:STANDARD
TZOFFSETFROM:+0300
TZOFFSETTO:+0200
TZNAME:EET
DTSTART:20251026T010000
END:STANDARD
BEGIN:DAYLIGHT
TZOFFSETFROM:+0200
TZOFFSETTO:+0300
TZNAME:EEST
DTSTART:20260329T010000
END:DAYLIGHT
BEGIN:STANDARD
TZOFFSETFROM:+0300
TZOFFSETTO:+0200
TZNAME:EET
DTSTART:20261025T010000
END:STANDARD
BEGIN:DAYLIGHT
TZOFFSETFROM:+0200
TZOFFSETTO:+0300
TZNAME:EEST
DTSTART:20270328T010000
END:DAYLIGHT
BEGIN:STANDARD
TZOFFSETFROM:+0300
TZOFFSETTO:+0200
TZNAME:EET
DTSTART:20271031T010000
END:STANDARD
END:VTIMEZONE
BEGIN:VTIMEZONE
TZID:Europe/Berlin
BEGIN:DAYLIGHT
TZOFFSETFROM:+0100
TZOFFSETTO:+0200
TZNAME:CEST
DTSTART:20250330T010000
END:DAYLIGHT
BEGIN:STANDARD
TZOFFSETFROM:+0200
TZOFFSETTO:+0100
TZNAME:CET
DTSTART:20251026T010000
END:STANDARD
BEGIN:DAYLIGHT
TZOFFSETFROM:+0100
TZOFFSETTO:+0200
TZNAME:CEST
DTSTART:20260329T010000
END:DAYLIGHT
BEGIN:STANDARD
TZOFFSETFROM:+0200
TZOFFSETTO:+0100
TZNAME:CET
DTSTART:20261025T010000
END:STANDARD
BEGIN:DAYLIGHT
TZOFFSETFROM:+0100
TZOFFSETTO:+0200
TZNAME:CEST
DTSTART:20270328T010000
END:DAYLIGHT
BEGIN:STANDARD
TZOFFSETFROM:+0200
TZOFFSETTO:+0100
TZNAME:CET
DTSTART:20271031T010000
END:STANDARD
END:VTIMEZONE
BEGIN:VTIMEZONE
TZID:Europe/Vienna
BEGIN:DAYLIGHT
TZOFFSETFROM:+0100
TZOFFSETTO:+0200
TZNAME:CEST
DTSTART:20250330T010000
END:DAYLIGHT
BEGIN:STANDARD
TZOFFSETFROM:+0200
TZOFFSETTO:+0100
TZNAME:CET
DTSTART:20251026T010000
END:STANDARD
BEGIN:DAYLIGHT
TZOFFSETFROM:+0100
TZOFFSETTO:+0200
TZNAME:CEST
DTSTART:20260329T010000
END:DAYLIGHT
BEGIN:STANDARD
TZOFFSETFROM:+0200
TZOFFSETTO:+0100
TZNAME:CET
DTSTART:20261025T010000
END:STANDARD
BEGIN:DAYLIGHT
TZOFFSETFROM:+0100
TZOFFSETTO:+0200
TZNAME:CEST
DTSTART:20270328T010000
END:DAYLIGHT
BEGIN:STANDARD
TZOFFSETFROM:+0200
TZOFFSETTO:+0100
TZNAME:CET
DTSTART:20271031T010000
END:STANDARD
END:VTIMEZONE
BEGIN:VEVENT
DTSTART;TZID=Europe/Vilnius:20260317T170000
DTEND;TZID=Europe/Vilnius:20260317T183000
DTSTAMP:20260420T073104
CREATED:20251204T090332Z
LAST-MODIFIED:20260317T125247Z
UID:10000247-1773766800-1773772200@prolifeeurope.org
SUMMARY:Info stalas Kaune
DESCRIPTION:Ateik\, susipažink ir padėk skleisti gyvybės kultūrą smagioj studentų kompanijoj 🤟
URL:https://prolifeeurope.org/event/info-stalas-kaune_ple/
LOCATION:Kaunas\, Lithuania
CATEGORIES:Outreach
ATTACH;FMTTYPE=image/jpeg:https://prolifeeurope.org/wp-content/uploads/2025/11/Info_Table_LT_IMG_20251008_112122-scaled-gXBnUP.jpg
ORGANIZER;CN="Antanas Urma":MAILTO:antanas.urma@prolifeeurope.org
END:VEVENT
BEGIN:VEVENT
DTSTART;TZID=Europe/Berlin:20260319T120000
DTEND;TZID=Europe/Berlin:20260319T120000
DTSTAMP:20260420T073104
CREATED:20260305T081834Z
LAST-MODIFIED:20260319T063412Z
UID:10000278-1773921600-1773921600@prolifeeurope.org
SUMMARY:Gruppentreffen Augsburg
DESCRIPTION:
URL:https://prolifeeurope.org/event/gruppentreffen-augsburg/
LOCATION:Augsburg\, Germany
CATEGORIES:Group Meeting
ATTACH;FMTTYPE=image/png:https://prolifeeurope.org/wp-content/uploads/2024/11/Screenshot-2024-07-23-at-17.11.30-1-1.png
ORGANIZER;CN="Lucia Bardini":MAILTO:lucia.bardini@prolifeeurope.org
END:VEVENT
BEGIN:VEVENT
DTSTART;TZID=Europe/Vilnius:20260319T130000
DTEND;TZID=Europe/Vilnius:20260319T150000
DTSTAMP:20260420T073104
CREATED:20260109T091217Z
LAST-MODIFIED:20260305T082419Z
UID:10000254-1773925200-1773932400@prolifeeurope.org
SUMMARY:Infotisch Wien
DESCRIPTION:Schau vorbei\, lerne uns kennen und pflanze mit anderen Studierenden Samen des Lebens!
URL:https://prolifeeurope.org/event/infotisch-wien46/
LOCATION:Vienna\, Austria
CATEGORIES:Outreach
ATTACH;FMTTYPE=image/png:https://prolifeeurope.org/wp-content/uploads/2024/12/Group-278.png
ORGANIZER;CN="Lucia Bardini":MAILTO:lucia.bardini@prolifeeurope.org
END:VEVENT
BEGIN:VEVENT
DTSTART;TZID=Europe/Vilnius:20260320T190000
DTEND;TZID=Europe/Vilnius:20260320T194500
DTSTAMP:20260420T073104
CREATED:20251113T134958Z
LAST-MODIFIED:20260317T140757Z
UID:10000243-1774033200-1774035900@prolifeeurope.org
SUMMARY:Atnaujinkime kultūrą! 🧡
DESCRIPTION:ProLife Europe kviečia Tave į trumpą nuotolinį susitikimą\, kuriuo metu pasidalinsime kaip kartu ginti žmogaus gyvybės orumą ir grožį. Susitikimo metu sužinosi ProLife Europe viziją ir misiją\, kas yra pro-life studentų grupė\, kaip gali prie tokios grupės prisijungti arba pradėti naują. \nhttps://docs.google.com/forms/d/e/1FAIpQLSd7TECRVDTqTfWZS6l6yp3jVXBvp9jlrVqiu0JV5_RYPVVJHw/viewform
URL:https://prolifeeurope.org/event/atnaujinkime-kultura-%f0%9f%a7%a1-ple/
CATEGORIES:Change the Culture
ATTACH;FMTTYPE=image/jpeg:https://prolifeeurope.org/wp-content/uploads/2025/11/InfoSessionLT_2024-10-04-Vilnius-NK3VnY.jpg
LOCATION:https://prolifeeurope.org/event/atnaujinkime-kultura-%f0%9f%a7%a1-ple/
END:VEVENT
BEGIN:VEVENT
DTSTART;TZID=Europe/Berlin:20260325T190000
DTEND;TZID=Europe/Berlin:20260325T210000
DTSTAMP:20260420T073104
CREATED:20251104T192918Z
LAST-MODIFIED:20260312T084451Z
UID:10000187-1774465200-1774472400@prolifeeurope.org
SUMMARY:Wieso Pro-life? P4
DESCRIPTION:4te von 4 Trainingseinheiten: Kulturelle Argumente \nhttps://docs.google.com/forms/d/e/1FAIpQLSecwQqZ3Rlh3RAnfG6jTmYAjY5QoOpDVuUeHxJT9mD-yf1oAA/viewform
URL:https://prolifeeurope.org/event/wieso-pro-life-p4/
CATEGORIES:Training
ATTACH;FMTTYPE=image/png:https://prolifeeurope.org/wp-content/uploads/2025/11/wieso-pro-life-4b-B3AxhN.png
LOCATION:https://prolifeeurope.org/event/wieso-pro-life-p4/
END:VEVENT
BEGIN:VEVENT
DTSTART;TZID=Europe/Berlin:20260327T170000
DTEND;TZID=Europe/Berlin:20260327T220000
DTSTAMP:20260420T073104
CREATED:20260320T130051Z
LAST-MODIFIED:20260320T130358Z
UID:10000283-1774630800-1774648800@prolifeeurope.org
SUMMARY:Teammeeting Zürich
DESCRIPTION:Teammeeting und kleiner Outreach
URL:https://prolifeeurope.org/event/teammeeting-zurich-44/
LOCATION:Zürich\, Switzerland
CATEGORIES:Group Meeting
ATTACH;FMTTYPE=image/png:https://prolifeeurope.org/wp-content/uploads/2024/11/Screenshot-2024-07-23-at-17.11.30-1-1.png
ORGANIZER;CN="Lucia Bardini":MAILTO:lucia.bardini@prolifeeurope.org
END:VEVENT
BEGIN:VEVENT
DTSTART;VALUE=DATE:20260329
DTEND;VALUE=DATE:20260330
DTSTAMP:20260420T073104
CREATED:20260302T081709Z
LAST-MODIFIED:20260302T193804Z
UID:10000276-1774742400-1774828799@prolifeeurope.org
SUMMARY:Outreach Warszawa
DESCRIPTION:Jesteśmy grupą studentów\, którzy wierzą w równą godność każdego człowieka 🧡 Chcemy budować kulturę dialogu wokół trudnych pytań 🫶 Dołącz do nas!
URL:https://prolifeeurope.org/event/outreach-warszawa/
LOCATION:Warsaw\, Poland
CATEGORIES:Outreach
ATTACH;FMTTYPE=image/png:https://prolifeeurope.org/wp-content/uploads/2026/03/Outreach-Warsaw.png
ORGANIZER;CN="Antanas Urma":MAILTO:antanas.urma@prolifeeurope.org
END:VEVENT
BEGIN:VEVENT
DTSTART;TZID=Europe/Vilnius:20260329T163000
DTEND;TZID=Europe/Vilnius:20260329T173000
DTSTAMP:20260420T073104
CREATED:20251209T082202Z
LAST-MODIFIED:20260319T063533Z
UID:10000252-1774801800-1774805400@prolifeeurope.org
SUMMARY:Info stalas Vilniuje
DESCRIPTION:Ateik\, susipažink ir padėk skleisti gyvybės kultūrą smagioj studentų kompanijoj 🤟
URL:https://prolifeeurope.org/event/info-stalas-vilniuje26/
LOCATION:Vilnius\, Lithuania
CATEGORIES:Outreach
ATTACH;FMTTYPE=image/jpeg:https://prolifeeurope.org/wp-content/uploads/2025/11/Info_Table_LT_IMG_20251008_112122-scaled-gXBnUP.jpg
ORGANIZER;CN="Antanas Urma":MAILTO:antanas.urma@prolifeeurope.org
END:VEVENT
BEGIN:VEVENT
DTSTART;TZID=Europe/Vienna:20260331T183000
DTEND;TZID=Europe/Vienna:20260331T193000
DTSTAMP:20260420T073104
CREATED:20251105T171838Z
LAST-MODIFIED:20260319T082312Z
UID:10000191-1774981800-1774985400@prolifeeurope.org
SUMMARY:Let's change the culture! DE
DESCRIPTION:Erfahre auch du\, wie du die Würde und die Schönheit des menschlichen Lebens verteidigen kannst. \nhttps://docs.google.com/forms/d/e/1FAIpQLSfYmsrdieiy9tBK5Q2LuLwhTzGO92zY7KIPSiWA2AtMHf8oSw/viewform
URL:https://prolifeeurope.org/event/lets-change-the-culture-de-33/
CATEGORIES:Change the Culture
ATTACH;FMTTYPE=image/jpeg:https://prolifeeurope.org/wp-content/uploads/2025/01/frankfurt.jpg
LOCATION:https://prolifeeurope.org/event/lets-change-the-culture-de-33/
END:VEVENT
END:VCALENDAR