BEGIN:VCALENDAR
VERSION:2.0
PRODID:-//ProLife Europe - ECPv6.15.17.1//NONSGML v1.0//EN
CALSCALE:GREGORIAN
METHOD:PUBLISH
X-ORIGINAL-URL:https://prolifeeurope.org
X-WR-CALDESC:Events for ProLife Europe
REFRESH-INTERVAL;VALUE=DURATION:PT1H
X-Robots-Tag:noindex
X-PUBLISHED-TTL:PT1H
BEGIN:VTIMEZONE
TZID:Europe/Berlin
BEGIN:DAYLIGHT
TZOFFSETFROM:+0100
TZOFFSETTO:+0200
TZNAME:CEST
DTSTART:20240331T010000
END:DAYLIGHT
BEGIN:STANDARD
TZOFFSETFROM:+0200
TZOFFSETTO:+0100
TZNAME:CET
DTSTART:20241027T010000
END:STANDARD
BEGIN:DAYLIGHT
TZOFFSETFROM:+0100
TZOFFSETTO:+0200
TZNAME:CEST
DTSTART:20250330T010000
END:DAYLIGHT
BEGIN:STANDARD
TZOFFSETFROM:+0200
TZOFFSETTO:+0100
TZNAME:CET
DTSTART:20251026T010000
END:STANDARD
BEGIN:DAYLIGHT
TZOFFSETFROM:+0100
TZOFFSETTO:+0200
TZNAME:CEST
DTSTART:20260329T010000
END:DAYLIGHT
BEGIN:STANDARD
TZOFFSETFROM:+0200
TZOFFSETTO:+0100
TZNAME:CET
DTSTART:20261025T010000
END:STANDARD
BEGIN:DAYLIGHT
TZOFFSETFROM:+0100
TZOFFSETTO:+0200
TZNAME:CEST
DTSTART:20270328T010000
END:DAYLIGHT
BEGIN:STANDARD
TZOFFSETFROM:+0200
TZOFFSETTO:+0100
TZNAME:CET
DTSTART:20271031T010000
END:STANDARD
END:VTIMEZONE
BEGIN:VEVENT
DTSTART;TZID=Europe/Berlin:20260419T123000
DTEND;TZID=Europe/Berlin:20260419T143000
DTSTAMP:20260422T104634
CREATED:20260316T081243Z
LAST-MODIFIED:20260408T113807Z
UID:10000280-1776601800-1776609000@prolifeeurope.org
SUMMARY:Narodowy Marsz Życia
DESCRIPTION:Zajrzyj do nas na Placu Zamkowym – dowiedz się jak możesz się zaangażować lub wesprzeć nasze działania!
URL:https://prolifeeurope.org/event/narodowy-marsz-zycia/
LOCATION:Warsaw\, Poland
CATEGORIES:Stand
ATTACH;FMTTYPE=image/png:https://prolifeeurope.org/wp-content/uploads/2026/03/Varsuva.png
ORGANIZER;CN="Antanas Urma":MAILTO:antanas.urma@prolifeeurope.org
END:VEVENT
BEGIN:VEVENT
DTSTART;TZID=Europe/Berlin:20260418T130000
DTEND;TZID=Europe/Berlin:20260418T160000
DTSTAMP:20260422T104634
CREATED:20260415T105936Z
LAST-MODIFIED:20260415T105936Z
UID:10000286-1776517200-1776528000@prolifeeurope.org
SUMMARY:Marsch fürs Leben München
DESCRIPTION:Jährlicher Marsch für das Leben
URL:https://prolifeeurope.org/event/marsch-furs-leben-munchen/
LOCATION:Munich\, Germany
CATEGORIES:Stand
ATTACH;FMTTYPE=image/png:https://prolifeeurope.org/wp-content/uploads/2025/11/Group-278-VzMgCu.png
ORGANIZER;CN="Lucia Bardini":MAILTO:lucia.bardini@prolifeeurope.org
END:VEVENT
BEGIN:VEVENT
DTSTART;TZID=Europe/Berlin:20260417T170000
DTEND;TZID=Europe/Berlin:20260417T190000
DTSTAMP:20260422T104634
CREATED:20260415T110958Z
LAST-MODIFIED:20260415T111015Z
UID:10000291-1776445200-1776452400@prolifeeurope.org
SUMMARY:Outreach München
DESCRIPTION:Schau vorbei\, lerne uns kennen und pflanze mit anderen Studierenden Samen des Lebens!
URL:https://prolifeeurope.org/event/outreach-munchen26/
LOCATION:Munich\, Germany
CATEGORIES:Stand
ATTACH;FMTTYPE=image/png:https://prolifeeurope.org/wp-content/uploads/2025/11/Group-263_wider-02tyrq.png
ORGANIZER;CN="Lucia Bardini":MAILTO:lucia.bardini@prolifeeurope.org
END:VEVENT
BEGIN:VEVENT
DTSTART;TZID=Europe/Berlin:20260417T150000
DTEND;TZID=Europe/Berlin:20260417T170000
DTSTAMP:20260422T104634
CREATED:20251202T120050Z
LAST-MODIFIED:20260415T105344Z
UID:10000245-1776438000-1776445200@prolifeeurope.org
SUMMARY:Outreach Wien
DESCRIPTION:Schau vorbei\, lerne uns kennen und pflanze mit anderen Studierenden Samen des Lebens!
URL:https://prolifeeurope.org/event/outreach-wien135/
LOCATION:Vienna\, Austria
CATEGORIES:Stand
ATTACH;FMTTYPE=image/png:https://prolifeeurope.org/wp-content/uploads/2025/11/Group-263_wider-02tyrq.png
ORGANIZER;CN="Lucia Bardini":MAILTO:lucia.bardini@prolifeeurope.org
END:VEVENT
BEGIN:VEVENT
DTSTART;TZID=Europe/Berlin:20260211T160000
DTEND;TZID=Europe/Berlin:20260211T190000
DTSTAMP:20260422T104634
CREATED:20260126T111730Z
LAST-MODIFIED:20260202T120401Z
UID:10000262-1770825600-1770836400@prolifeeurope.org
SUMMARY:Infotisch München
DESCRIPTION:Schau vorbei\, lerne uns kennen und pflanze mit anderen Studierenden Samen des Lebens!
URL:https://prolifeeurope.org/event/munchen/
LOCATION:Munich\, Germany
CATEGORIES:Stand
ATTACH;FMTTYPE=image/png:https://prolifeeurope.org/wp-content/uploads/2024/12/Group-278.png
ORGANIZER;CN="Lucia Bardini":MAILTO:lucia.bardini@prolifeeurope.org
END:VEVENT
BEGIN:VEVENT
DTSTART;TZID=Europe/Berlin:20251115T110000
DTEND;TZID=Europe/Berlin:20251115T140000
DTSTAMP:20260422T104634
CREATED:20251104T192750Z
LAST-MODIFIED:20251106T125057Z
UID:10000177-1763204400-1763215200@prolifeeurope.org
SUMMARY:March for life Den Haag
DESCRIPTION:Annual March for life in The Hague! \nhttps://www.schreeuwomleven.nl/mars/
URL:https://prolifeeurope.org/event/march-for-life-den-haag/
CATEGORIES:Stand
ATTACH;FMTTYPE=image/png:https://prolifeeurope.org/wp-content/uploads/2025/11/Group-278-VzMgCu.png
ORGANIZER;CN="Roos Sparreboom":MAILTO:roos.sparreboom@prolifeeurope.org
END:VEVENT
END:VCALENDAR