BEGIN:VCALENDAR
VERSION:2.0
PRODID:-//ProLife Europe - ECPv6.15.17.1//NONSGML v1.0//EN
CALSCALE:GREGORIAN
METHOD:PUBLISH
X-WR-CALNAME:ProLife Europe
X-ORIGINAL-URL:https://prolifeeurope.org
X-WR-CALDESC:Events for ProLife Europe
REFRESH-INTERVAL;VALUE=DURATION:PT1H
X-Robots-Tag:noindex
X-PUBLISHED-TTL:PT1H
BEGIN:VTIMEZONE
TZID:Europe/Vilnius
BEGIN:DAYLIGHT
TZOFFSETFROM:+0200
TZOFFSETTO:+0300
TZNAME:EEST
DTSTART:20250330T010000
END:DAYLIGHT
BEGIN:STANDARD
TZOFFSETFROM:+0300
TZOFFSETTO:+0200
TZNAME:EET
DTSTART:20251026T010000
END:STANDARD
BEGIN:DAYLIGHT
TZOFFSETFROM:+0200
TZOFFSETTO:+0300
TZNAME:EEST
DTSTART:20260329T010000
END:DAYLIGHT
BEGIN:STANDARD
TZOFFSETFROM:+0300
TZOFFSETTO:+0200
TZNAME:EET
DTSTART:20261025T010000
END:STANDARD
BEGIN:DAYLIGHT
TZOFFSETFROM:+0200
TZOFFSETTO:+0300
TZNAME:EEST
DTSTART:20270328T010000
END:DAYLIGHT
BEGIN:STANDARD
TZOFFSETFROM:+0300
TZOFFSETTO:+0200
TZNAME:EET
DTSTART:20271031T010000
END:STANDARD
END:VTIMEZONE
BEGIN:VEVENT
DTSTART;TZID=Europe/Vilnius:20260421T120000
DTEND;TZID=Europe/Vilnius:20260421T130000
DTSTAMP:20260420T164901
CREATED:20251105T171838Z
LAST-MODIFIED:20260417T112929Z
UID:10000190-1776772800-1776776400@prolifeeurope.org
SUMMARY:Info stalas Kaune
DESCRIPTION:Ateik\, susipažink ir padėk skleisti gyvybės kultūrą smagioj studentų kompanijoj 🤟
URL:https://prolifeeurope.org/event/info-stalas-kaune251210/
LOCATION:Kaunas\, Lithuania
CATEGORIES:Outreach
ATTACH;FMTTYPE=image/jpeg:https://prolifeeurope.org/wp-content/uploads/2025/11/Info_Table_LT_IMG_20251008_112122-scaled-gXBnUP.jpg
ORGANIZER;CN="Antanas Urma":MAILTO:antanas.urma@prolifeeurope.org
END:VEVENT
END:VCALENDAR